BEGIN:VCALENDAR
VERSION:2.0
PRODID:-//University Women&#039;s Club of Vancouver - ECPv6.15.20//NONSGML v1.0//EN
CALSCALE:GREGORIAN
METHOD:PUBLISH
X-ORIGINAL-URL:https://www.uwcvancouver.ca
X-WR-CALDESC:Events for University Women&#039;s Club of Vancouver
REFRESH-INTERVAL;VALUE=DURATION:PT1H
X-Robots-Tag:noindex
X-PUBLISHED-TTL:PT1H
BEGIN:VTIMEZONE
TZID:America/Vancouver
BEGIN:DAYLIGHT
TZOFFSETFROM:-0800
TZOFFSETTO:-0700
TZNAME:PDT
DTSTART:20250309T100000
END:DAYLIGHT
BEGIN:STANDARD
TZOFFSETFROM:-0700
TZOFFSETTO:-0800
TZNAME:PST
DTSTART:20251102T090000
END:STANDARD
BEGIN:DAYLIGHT
TZOFFSETFROM:-0800
TZOFFSETTO:-0700
TZNAME:PDT
DTSTART:20260308T100000
END:DAYLIGHT
BEGIN:STANDARD
TZOFFSETFROM:-0700
TZOFFSETTO:-0800
TZNAME:PST
DTSTART:20261101T090000
END:STANDARD
BEGIN:DAYLIGHT
TZOFFSETFROM:-0800
TZOFFSETTO:-0700
TZNAME:PDT
DTSTART:20270314T100000
END:DAYLIGHT
BEGIN:STANDARD
TZOFFSETFROM:-0700
TZOFFSETTO:-0800
TZNAME:PST
DTSTART:20271107T090000
END:STANDARD
END:VTIMEZONE
BEGIN:VEVENT
DTSTART;TZID=America/Vancouver:20260327T160000
DTEND;TZID=America/Vancouver:20260327T173000
DTSTAMP:20260422T074308
CREATED:20260320T190654Z
LAST-MODIFIED:20260320T190654Z
UID:10000394-1774627200-1774632600@www.uwcvancouver.ca
SUMMARY:Milestones & Reflections - Book Launch
DESCRIPTION:Members and guests are invited the story behind the book\, hear excerpts read aloud\, and engage in conversation with the author. \nAs a graduate of Simon Fraser University’s Writing Studio and as member of the UWCV Writers Group\, Tricia has been writing creative memoirs for three decades. This collection of twenty prose and poetry works represent poignant events in the author’s life many will relate to. \nMembers and guests\, we look forward to having you join us. Food and beverage is available for purchase during this Happy Hour time.  This event is in the McRae Lounge
URL:https://www.uwcvancouver.ca/event/milestones-reflections-book-launch/
LOCATION:Hycroft\, 1489 McRae Avenue\, Vancouver\, BC\, V6H 1V1\, Canada
CATEGORIES:Members Only
ATTACH;FMTTYPE=image/jpeg:https://www.uwcvancouver.ca/wp-content/uploads/2026/03/Book-Launch-Tricia-Daum.jpg
ORGANIZER;CN="The University Women%E2%80%99s Club of Vancouver":MAILTO:office@uwcvancouver.ca
GEO:49.2573512;-123.1365302
X-APPLE-STRUCTURED-LOCATION;VALUE=URI;X-ADDRESS=Hycroft 1489 McRae Avenue Vancouver BC V6H 1V1 Canada;X-APPLE-RADIUS=500;X-TITLE=1489 McRae Avenue:geo:-123.1365302,49.2573512
END:VEVENT
END:VCALENDAR